BEGIN:VCALENDAR
VERSION:2.0
PRODID:icalendar-ruby
CALSCALE:GREGORIAN
METHOD:PUBLISH
BEGIN:VEVENT
DTSTAMP:20260420T185338Z
UID:11-450116@bethelbloxom.org
DTSTART:20260922T220000Z
DTEND:20260923T000000Z
CLASS:PUBLIC
CREATED:20260420T133731
DESCRIPTION:Currently going through the "Experiencing God" study. Feel free
  to join us any time!
LAST-MODIFIED:20260420T133731
LOCATION:Bethel Baptist Church - 14050 Bethel Church Rd\, Bloxom
SUMMARY:Ladies Bible Study
URL;VALUE=URI:https://bethelbloxom.org/events/ladies-bible-study/2026-09-22
END:VEVENT
END:VCALENDAR
